BEGIN:VCALENDAR
VERSION:2.0
PRODID:-//Sheldon Theatre - ECPv6.15.17.1//NONSGML v1.0//EN
CALSCALE:GREGORIAN
METHOD:PUBLISH
X-WR-CALNAME:Sheldon Theatre
X-ORIGINAL-URL:https://www.sheldontheatre.org
X-WR-CALDESC:Events for Sheldon Theatre
REFRESH-INTERVAL;VALUE=DURATION:PT1H
X-Robots-Tag:noindex
X-PUBLISHED-TTL:PT1H
BEGIN:VTIMEZONE
TZID:America/Chicago
BEGIN:DAYLIGHT
TZOFFSETFROM:-0600
TZOFFSETTO:-0500
TZNAME:CDT
DTSTART:20240310T080000
END:DAYLIGHT
BEGIN:STANDARD
TZOFFSETFROM:-0500
TZOFFSETTO:-0600
TZNAME:CST
DTSTART:20241103T070000
END:STANDARD
BEGIN:DAYLIGHT
TZOFFSETFROM:-0600
TZOFFSETTO:-0500
TZNAME:CDT
DTSTART:20250309T080000
END:DAYLIGHT
BEGIN:STANDARD
TZOFFSETFROM:-0500
TZOFFSETTO:-0600
TZNAME:CST
DTSTART:20251102T070000
END:STANDARD
BEGIN:DAYLIGHT
TZOFFSETFROM:-0600
TZOFFSETTO:-0500
TZNAME:CDT
DTSTART:20260308T080000
END:DAYLIGHT
BEGIN:STANDARD
TZOFFSETFROM:-0500
TZOFFSETTO:-0600
TZNAME:CST
DTSTART:20261101T070000
END:STANDARD
END:VTIMEZONE
BEGIN:VEVENT
DTSTART;TZID=America/Chicago:20251118T140000
DTEND;TZID=America/Chicago:20251118T140000
DTSTAMP:20260423T111128
CREATED:20250908T213857Z
LAST-MODIFIED:20251022T123409Z
UID:16199-1763474400-1763474400@www.sheldontheatre.org
SUMMARY:Laverne & Lucy
DESCRIPTION:Doors 1:30pm / Show 2:00pm \nLAVERNE and LUCY bring side-splitting comedy\, lively music and laugh-out-loud improvisation to their audiences. Their engaging repertoire is a mix of fun-time rock and roll\, bluegrass\, novelties and more. Each high-energy show takes their audiences on an enlivening jaunt\, sharing skits\, audience involvement\, new comedy ditties as well as everyone’s favorite songs. These two talented women have been on the professional stage since their teens and their experience and love of entertaining shines through each production. Although created for adult audiences\, LAVERNE and LUCY’s witty and winsome repartee is good\, clean fun for all ages. Add excellent musicianship along with a beautiful blend of their voices\, and you’ve got a memorable event full of variety\, audience interplay and lots of laughter!
URL:https://www.sheldontheatre.org/event/laverne-lucy/
LOCATION:Sheldon Theatre\, 443 West 3rd St\, Red Wing\, 55066\, United States
CATEGORIES:Comedy,Family,Matinee,Music,Upcoming Shows
ATTACH;FMTTYPE=image/png:https://www.sheldontheatre.org/wp-content/uploads/2025/09/Laverne-Lucy.png
GEO:44.564027;-92.535013
X-APPLE-STRUCTURED-LOCATION;VALUE=URI;X-ADDRESS=Sheldon Theatre 443 West 3rd St Red Wing 55066 United States;X-APPLE-RADIUS=500;X-TITLE=443 West 3rd St:geo:-92.535013,44.564027
END:VEVENT
BEGIN:VEVENT
DTSTART;TZID=America/Chicago:20251128T133000
DTEND;TZID=America/Chicago:20251128T133000
DTSTAMP:20260423T111128
CREATED:20251009T132400Z
LAST-MODIFIED:20251118T161927Z
UID:16265-1764336600-1764336600@www.sheldontheatre.org
SUMMARY:The Muppet Christmas Carol
DESCRIPTION:The Muppets perform the classic Dickens holiday tale\, with Kermit the Frog playing Bob Cratchit\, the put-upon clerk of stingy Ebenezer Scrooge (Michael Caine). Other Muppets\, Miss Piggy\, Gonzo\, Fozzie Bear and Sam the Eagle\, weave in and out of the story\, while Scrooge receives visits from spirits of three Christmases\, past\, present and future. They show him the error of his self-serving ways\, but the miserable old man seems to be past any hope of redemption and happiness. \nAfter the movie\, those who attend are among the first to get in line to see Santa!
URL:https://www.sheldontheatre.org/event/the-muppet-christmas-carol/
LOCATION:Sheldon Theatre\, 443 West 3rd St\, Red Wing\, 55066\, United States
CATEGORIES:Family,Film,Upcoming Shows
ATTACH;FMTTYPE=image/png:https://www.sheldontheatre.org/wp-content/uploads/2025/10/Holiday-movie-1.png
GEO:44.564027;-92.535013
X-APPLE-STRUCTURED-LOCATION;VALUE=URI;X-ADDRESS=Sheldon Theatre 443 West 3rd St Red Wing 55066 United States;X-APPLE-RADIUS=500;X-TITLE=443 West 3rd St:geo:-92.535013,44.564027
END:VEVENT
BEGIN:VEVENT
DTSTART;TZID=America/Chicago:20251129T150000
DTEND;TZID=America/Chicago:20251129T150000
DTSTAMP:20260423T111128
CREATED:20251009T132526Z
LAST-MODIFIED:20251009T133941Z
UID:16269-1764428400-1764428400@www.sheldontheatre.org
SUMMARY:Sheldon Theatre Brass Band Holiday Concert 2025
DESCRIPTION:Doors 2:30pm / Show 3:00pm \nThe Sheldon Theatre Brass Band was founded in 1989\nas the resident performing ensemble at the newly restored\, turn of the century T. B. Sheldon Theatre in Red Wing\, Minnesota. We use the instrumentation of the traditional British Brass Band and play a broad variety of musical styles including original pieces for brass and percussion\, marches\, orchestral transcriptions\, and unique arrangements for brass.  \nFor more information: https://youtu.be/i0RziAYufGM
URL:https://www.sheldontheatre.org/event/sheldon-theatre-brass-band-holiday-concert-2025/
LOCATION:Sheldon Theatre\, 443 West 3rd St\, Red Wing\, 55066\, United States
CATEGORIES:Family,Matinee,Music,Upcoming Shows
ATTACH;FMTTYPE=image/png:https://www.sheldontheatre.org/wp-content/uploads/2025/10/STBB25.png
GEO:44.564027;-92.535013
X-APPLE-STRUCTURED-LOCATION;VALUE=URI;X-ADDRESS=Sheldon Theatre 443 West 3rd St Red Wing 55066 United States;X-APPLE-RADIUS=500;X-TITLE=443 West 3rd St:geo:-92.535013,44.564027
END:VEVENT
END:VCALENDAR