BEGIN:VCALENDAR
VERSION:2.0
PRODID:-//Sheldon Theatre - ECPv6.15.17.1//NONSGML v1.0//EN
CALSCALE:GREGORIAN
METHOD:PUBLISH
X-ORIGINAL-URL:https://www.sheldontheatre.org
X-WR-CALDESC:Events for Sheldon Theatre
REFRESH-INTERVAL;VALUE=DURATION:PT1H
X-Robots-Tag:noindex
X-PUBLISHED-TTL:PT1H
BEGIN:VTIMEZONE
TZID:America/Chicago
BEGIN:DAYLIGHT
TZOFFSETFROM:-0600
TZOFFSETTO:-0500
TZNAME:CDT
DTSTART:20250309T080000
END:DAYLIGHT
BEGIN:STANDARD
TZOFFSETFROM:-0500
TZOFFSETTO:-0600
TZNAME:CST
DTSTART:20251102T070000
END:STANDARD
BEGIN:DAYLIGHT
TZOFFSETFROM:-0600
TZOFFSETTO:-0500
TZNAME:CDT
DTSTART:20260308T080000
END:DAYLIGHT
BEGIN:STANDARD
TZOFFSETFROM:-0500
TZOFFSETTO:-0600
TZNAME:CST
DTSTART:20261101T070000
END:STANDARD
BEGIN:DAYLIGHT
TZOFFSETFROM:-0600
TZOFFSETTO:-0500
TZNAME:CDT
DTSTART:20270314T080000
END:DAYLIGHT
BEGIN:STANDARD
TZOFFSETFROM:-0500
TZOFFSETTO:-0600
TZNAME:CST
DTSTART:20271107T070000
END:STANDARD
END:VTIMEZONE
BEGIN:VEVENT
DTSTART;TZID=America/Chicago:20260624T103000
DTEND;TZID=America/Chicago:20260624T103000
DTSTAMP:20260424T123825
CREATED:20260320T202637Z
LAST-MODIFIED:20260320T202637Z
UID:16614-1782297000-1782297000@www.sheldontheatre.org
SUMMARY:To Laugh Is To Live!
DESCRIPTION:Prepare for the whimsical wonders of Kenny Ahern’s show\, “To Laugh is to Live!” Playful pandemonium reigns\, accompanied by a whirlwind of laughs\, stupendous silliness\, daring artistry\, and abundant joy. \nDelighting the hearts of audiences around the world for decades! Kenny speaks volumes\, with almost nary a word. \nKenny delivers a family-friendly performance that feels delightfully fresh\, yet portrays a classic vaudeville style of a bygone era. He builds community with laughter\, silly antics\, and heartwarming charm.  \nFor Groups – Please Contact Leah at Ladams@sheldontheatre.org or 651-385-5115
URL:https://www.sheldontheatre.org/event/to-laugh-is-to-live/
LOCATION:Sheldon Theatre\, 443 West 3rd St\, Red Wing\, 55066\, United States
CATEGORIES:Family,Upcoming Shows
ATTACH;FMTTYPE=image/png:https://www.sheldontheatre.org/wp-content/uploads/2026/03/26-06-24-Kenny-Workshop-1.png
GEO:44.564027;-92.535013
X-APPLE-STRUCTURED-LOCATION;VALUE=URI;X-ADDRESS=Sheldon Theatre 443 West 3rd St Red Wing 55066 United States;X-APPLE-RADIUS=500;X-TITLE=443 West 3rd St:geo:-92.535013,44.564027
END:VEVENT
END:VCALENDAR