BEGIN:VCALENDAR
VERSION:2.0
PRODID:-//Sheldon Theatre - ECPv6.15.17.1//NONSGML v1.0//EN
CALSCALE:GREGORIAN
METHOD:PUBLISH
X-ORIGINAL-URL:https://www.sheldontheatre.org
X-WR-CALDESC:Events for Sheldon Theatre
REFRESH-INTERVAL;VALUE=DURATION:PT1H
X-Robots-Tag:noindex
X-PUBLISHED-TTL:PT1H
BEGIN:VTIMEZONE
TZID:America/Chicago
BEGIN:DAYLIGHT
TZOFFSETFROM:-0600
TZOFFSETTO:-0500
TZNAME:CDT
DTSTART:20240310T080000
END:DAYLIGHT
BEGIN:STANDARD
TZOFFSETFROM:-0500
TZOFFSETTO:-0600
TZNAME:CST
DTSTART:20241103T070000
END:STANDARD
BEGIN:DAYLIGHT
TZOFFSETFROM:-0600
TZOFFSETTO:-0500
TZNAME:CDT
DTSTART:20250309T080000
END:DAYLIGHT
BEGIN:STANDARD
TZOFFSETFROM:-0500
TZOFFSETTO:-0600
TZNAME:CST
DTSTART:20251102T070000
END:STANDARD
BEGIN:DAYLIGHT
TZOFFSETFROM:-0600
TZOFFSETTO:-0500
TZNAME:CDT
DTSTART:20260308T080000
END:DAYLIGHT
BEGIN:STANDARD
TZOFFSETFROM:-0500
TZOFFSETTO:-0600
TZNAME:CST
DTSTART:20261101T070000
END:STANDARD
END:VTIMEZONE
BEGIN:VEVENT
DTSTART;TZID=America/Chicago:20250912T190000
DTEND;TZID=America/Chicago:20250912T190000
DTSTAMP:20260424T201533
CREATED:20250908T200058Z
LAST-MODIFIED:20250908T201953Z
UID:16065-1757703600-1757703600@www.sheldontheatre.org
SUMMARY:Los Rebeldes
DESCRIPTION:Pre-Fiesta begins at 5:30pm in the Sheldon Theatre Courtyard. \n¡Preparate para bailar! La Fiesta se vive frente al escenario!  \nDancing is encouraged and we will have space near the stage! \nPor Familia: Aportación voluntaria\, $10.00 sugeridos\, pero paga lo que puedas. \nPer Family: Voluntary contribution\, $10.00 suggested\, but pay what you can. \nPor Persona: Aportación voluntaria\, $5.00 sugeridos\, pero paga lo que puedas. \nPer Person: Voluntary contribution\, $5.00 suggested\, but pay what you can. \nLos Rebeldes (of Minnesota) is a celebrated family band that has brought the heart of Tex-Mex and Mexican folk music to audiences across the Midwest for over four decades. More info below. \nLos Rebeldes (de Minnesota) es una banda familiar que ha llevado el corazón de la música Tex-Mex y folklórica mexicana a audiencias de todo el Medio Oeste durante más de cuatro décadas. Formados a principios de los 80\, Los Rebeldes comenzaron con la pasión musical de la familia Cardona. \n 
URL:https://www.sheldontheatre.org/event/los-rebeldes/
LOCATION:Sheldon Theatre\, 443 West 3rd St\, Red Wing\, 55066\, United States
CATEGORIES:Music,Upcoming Shows
ATTACH;FMTTYPE=image/png:https://www.sheldontheatre.org/wp-content/uploads/2025/09/Los-Rebeldes-4.png
GEO:44.564027;-92.535013
X-APPLE-STRUCTURED-LOCATION;VALUE=URI;X-ADDRESS=Sheldon Theatre 443 West 3rd St Red Wing 55066 United States;X-APPLE-RADIUS=500;X-TITLE=443 West 3rd St:geo:-92.535013,44.564027
END:VEVENT
BEGIN:VEVENT
DTSTART;TZID=America/Chicago:20250920T193000
DTEND;TZID=America/Chicago:20250920T193000
DTSTAMP:20260424T201533
CREATED:20250908T200049Z
LAST-MODIFIED:20250908T154649Z
UID:16076-1758396600-1758396600@www.sheldontheatre.org
SUMMARY:Get Happy - Angela Ingersoll Sings Judy Garland
DESCRIPTION:Doors 7:00pm / Show 7:30pm \nActress\, singer\, writer\, and producer Angela Ingersoll received an Emmy Award nomination for her performance in Get Happy: Angela Ingersoll Sings Judy Garland \non PBS\, which tours live nationwide. She won acclaim starring as Judy Garland in the play End of the Rainbow\, including Chicago’s Jeff Award\, a Broadway World Award\, and LA Times Woman of the Year in Theatre. Attracting the attention of Garland’s family\, she collaborated with Joey Luft in concert and has been dubbed by critics “the heiress apparent to the Garland legacy.”
URL:https://www.sheldontheatre.org/event/get-happy-angela-ingersoll-sings-judy-garland/
LOCATION:Sheldon Theatre\, 443 West 3rd St\, Red Wing\, 55066\, United States
CATEGORIES:Music,Upcoming Shows
ATTACH;FMTTYPE=image/png:https://www.sheldontheatre.org/wp-content/uploads/2025/09/Get-Happy.png
GEO:44.564027;-92.535013
X-APPLE-STRUCTURED-LOCATION;VALUE=URI;X-ADDRESS=Sheldon Theatre 443 West 3rd St Red Wing 55066 United States;X-APPLE-RADIUS=500;X-TITLE=443 West 3rd St:geo:-92.535013,44.564027
END:VEVENT
BEGIN:VEVENT
DTSTART;TZID=America/Chicago:20250925T190000
DTEND;TZID=America/Chicago:20250925T190000
DTSTAMP:20260424T201533
CREATED:20250908T200001Z
LAST-MODIFIED:20250916T194037Z
UID:16126-1758826800-1758826800@www.sheldontheatre.org
SUMMARY:Duane Betts & Palmetto Motel with Jaime Wyatt
DESCRIPTION:Doors 6:30pm / Show 7:00pm \nDuane Betts ignites and brings an evolution to the Southern rock tradition. With a fiery legacy forged by his father\, the legendary Dickey Betts\, the second generation musician infuses it with his own soul-stirring blend of blues\, raw passion\, and six-string mastery. \nOpening the evening is acclaimed singer-songwriter Jaime Wyatt\, hailed as one of the most compelling voices in contemporary roots music. With her raw vocals and fearless songwriting\, Wyatt blends outlaw country and Americana into music that is both timeless and fresh.
URL:https://www.sheldontheatre.org/event/duane-betts-palmetto-motel-with-jaime-wyatt/
LOCATION:Sheldon Theatre\, 443 West 3rd St\, Red Wing\, 55066\, United States
CATEGORIES:Music,Upcoming Shows
ATTACH;FMTTYPE=image/png:https://www.sheldontheatre.org/wp-content/uploads/2025/09/Duane-1.png
GEO:44.564027;-92.535013
X-APPLE-STRUCTURED-LOCATION;VALUE=URI;X-ADDRESS=Sheldon Theatre 443 West 3rd St Red Wing 55066 United States;X-APPLE-RADIUS=500;X-TITLE=443 West 3rd St:geo:-92.535013,44.564027
END:VEVENT
END:VCALENDAR