BEGIN:VCALENDAR
VERSION:2.0
PRODID:-//Sheldon Theatre - ECPv6.15.17.1//NONSGML v1.0//EN
CALSCALE:GREGORIAN
METHOD:PUBLISH
X-WR-CALNAME:Sheldon Theatre
X-ORIGINAL-URL:https://www.sheldontheatre.org
X-WR-CALDESC:Events for Sheldon Theatre
REFRESH-INTERVAL;VALUE=DURATION:PT1H
X-Robots-Tag:noindex
X-PUBLISHED-TTL:PT1H
BEGIN:VTIMEZONE
TZID:America/Chicago
BEGIN:DAYLIGHT
TZOFFSETFROM:-0600
TZOFFSETTO:-0500
TZNAME:CDT
DTSTART:20240310T080000
END:DAYLIGHT
BEGIN:STANDARD
TZOFFSETFROM:-0500
TZOFFSETTO:-0600
TZNAME:CST
DTSTART:20241103T070000
END:STANDARD
BEGIN:DAYLIGHT
TZOFFSETFROM:-0600
TZOFFSETTO:-0500
TZNAME:CDT
DTSTART:20250309T080000
END:DAYLIGHT
BEGIN:STANDARD
TZOFFSETFROM:-0500
TZOFFSETTO:-0600
TZNAME:CST
DTSTART:20251102T070000
END:STANDARD
BEGIN:DAYLIGHT
TZOFFSETFROM:-0600
TZOFFSETTO:-0500
TZNAME:CDT
DTSTART:20260308T080000
END:DAYLIGHT
BEGIN:STANDARD
TZOFFSETFROM:-0500
TZOFFSETTO:-0600
TZNAME:CST
DTSTART:20261101T070000
END:STANDARD
END:VTIMEZONE
BEGIN:VEVENT
DTSTART;TZID=America/Chicago:20251004T193000
DTEND;TZID=America/Chicago:20251004T193000
DTSTAMP:20260424T183728
CREATED:20250908T201615Z
LAST-MODIFIED:20250908T201640Z
UID:16148-1759606200-1759606200@www.sheldontheatre.org
SUMMARY:Veronica Swift
DESCRIPTION:Doors 7:00pm / Show 7:30pm \nSwift brings timeless talent with a modern twist\, blending jazz\, opera\, and classic American songs with stunning vocal power and charm. Her captivating live show celebrates the music you love – delivered with fresh energy\, style\, and heart. \nADD-ON AVAILABLE: A Sheldon Prelude Event: A Historic Homes Soirée. \nFor an additional $100\, you can support the Sheldon while having a grand evening with a ride on the Trolley to Two Historic Red Wing Homes\, enjoying a moveable feast\, cocktails\, music and great company. Space is limited\, a ticket to Veronica Swift is required to purchase this add-on.
URL:https://www.sheldontheatre.org/event/veronica-swift/
LOCATION:Sheldon Theatre\, 443 West 3rd St\, Red Wing\, 55066\, United States
CATEGORIES:Music,Upcoming Shows
ATTACH;FMTTYPE=image/jpeg:https://www.sheldontheatre.org/wp-content/uploads/2025/09/Veronica-Swift-scaled.jpg
GEO:44.564027;-92.535013
X-APPLE-STRUCTURED-LOCATION;VALUE=URI;X-ADDRESS=Sheldon Theatre 443 West 3rd St Red Wing 55066 United States;X-APPLE-RADIUS=500;X-TITLE=443 West 3rd St:geo:-92.535013,44.564027
END:VEVENT
BEGIN:VEVENT
DTSTART;TZID=America/Chicago:20251016T140000
DTEND;TZID=America/Chicago:20251016T140000
DTSTAMP:20260424T183728
CREATED:20250908T202546Z
LAST-MODIFIED:20250908T202546Z
UID:16162-1760623200-1760623200@www.sheldontheatre.org
SUMMARY:From Prince to Dylan: Music of Minnesota's Legends
DESCRIPTION:Doors 1:30pm / Show 2:00pm \nA vibrant concert celebrating Minnesota’s rich musical history\, featuring legendary artists like Prince and Bob Dylan\, along with The Andrews Sisters and Soul Asylum. They will take you on a tour through iconic Minnesota locations – from the electric streets of Minneapolis to the quiet beauty of Duluth while presenting our state’s diverse cultural landscape.
URL:https://www.sheldontheatre.org/event/from-prince-to-dylan-music-of-minnesotas-legends/
LOCATION:Sheldon Theatre\, 443 West 3rd St\, Red Wing\, 55066\, United States
CATEGORIES:Matinee,Music,Upcoming Shows
ATTACH;FMTTYPE=image/png:https://www.sheldontheatre.org/wp-content/uploads/2025/09/Prince-to-Dylan.png
GEO:44.564027;-92.535013
X-APPLE-STRUCTURED-LOCATION;VALUE=URI;X-ADDRESS=Sheldon Theatre 443 West 3rd St Red Wing 55066 United States;X-APPLE-RADIUS=500;X-TITLE=443 West 3rd St:geo:-92.535013,44.564027
END:VEVENT
BEGIN:VEVENT
DTSTART;TZID=America/Chicago:20251019T190000
DTEND;TZID=America/Chicago:20251019T190000
DTSTAMP:20260424T183728
CREATED:20250908T202802Z
LAST-MODIFIED:20251003T165056Z
UID:16166-1760900400-1760900400@www.sheldontheatre.org
SUMMARY:Collin Raye
DESCRIPTION:Doors 6:30pm / Show 7:00pm \nThe man who has topped the charts with such great songs as “On the Verge\,” “One Boy\, One Girl\,”  \n“What the Heart Wants\,” and “If I were you” continues to touch hearts across the globe in both traditional and new ways.   \n Collin Raye is nothing if not passionate. His soulful delivery has set country standards in such searing ballads as “Love\, Me\,” “In This Life\,” “Not That Different” and “If I were you”. Always an energizing showman\, he has also blazed through with such vivid rockers as “My Kind of Girl\,” “That’s My Story\,” “I Can Still Feel You” and “I Want You Bad.”  \n **premium show 
URL:https://www.sheldontheatre.org/event/collin-raye/
LOCATION:Sheldon Theatre\, 443 West 3rd St\, Red Wing\, 55066\, United States
CATEGORIES:Music,Upcoming Shows
ATTACH;FMTTYPE=image/png:https://www.sheldontheatre.org/wp-content/uploads/2025/09/Collin-Raye-1.png
GEO:44.564027;-92.535013
X-APPLE-STRUCTURED-LOCATION;VALUE=URI;X-ADDRESS=Sheldon Theatre 443 West 3rd St Red Wing 55066 United States;X-APPLE-RADIUS=500;X-TITLE=443 West 3rd St:geo:-92.535013,44.564027
END:VEVENT
BEGIN:VEVENT
DTSTART;TZID=America/Chicago:20251025T193000
DTEND;TZID=America/Chicago:20251025T193000
DTSTAMP:20260424T183728
CREATED:20250908T204812Z
LAST-MODIFIED:20250908T204848Z
UID:16173-1761420600-1761420600@www.sheldontheatre.org
SUMMARY:Orleans
DESCRIPTION:Doors 7:00pm / Show 7:30pm \nCelebrating over 50 YEARS of live performances! Their iconic radio hits\, including “Still The One\,” “Dance With Me” and “Love Takes Time\,” still resonate with audiences of all ages thanks to continued airplay on Classic Rock radio\, television\, film and streaming services.
URL:https://www.sheldontheatre.org/event/orleans/
LOCATION:Sheldon Theatre\, 443 West 3rd St\, Red Wing\, 55066\, United States
CATEGORIES:Music,Upcoming Shows
ATTACH;FMTTYPE=image/png:https://www.sheldontheatre.org/wp-content/uploads/2025/09/Orleans.png
GEO:44.564027;-92.535013
X-APPLE-STRUCTURED-LOCATION;VALUE=URI;X-ADDRESS=Sheldon Theatre 443 West 3rd St Red Wing 55066 United States;X-APPLE-RADIUS=500;X-TITLE=443 West 3rd St:geo:-92.535013,44.564027
END:VEVENT
BEGIN:VEVENT
DTSTART;TZID=America/Chicago:20251030T190000
DTEND;TZID=America/Chicago:20251030T190000
DTSTAMP:20260424T183728
CREATED:20250908T210158Z
LAST-MODIFIED:20250908T211352Z
UID:16176-1761850800-1761850800@www.sheldontheatre.org
SUMMARY:All Hallows' Eve - jeremy messersmith
DESCRIPTION:Doors 6:30pm / Show 7:00pm \nA Halloween-inspired variety show featuring jeremy messersmith and his band performing a slew of spooky hits. There will even be a costume contest with prizes! Watch for info in September.
URL:https://www.sheldontheatre.org/event/all-hallows-eve-jeremy-messersmith/
LOCATION:Sheldon Theatre\, 443 West 3rd St\, Red Wing\, 55066\, United States
CATEGORIES:Music,Upcoming Shows
ATTACH;FMTTYPE=image/png:https://www.sheldontheatre.org/wp-content/uploads/2025/09/All-Hallows-Eve-25.png
GEO:44.564027;-92.535013
X-APPLE-STRUCTURED-LOCATION;VALUE=URI;X-ADDRESS=Sheldon Theatre 443 West 3rd St Red Wing 55066 United States;X-APPLE-RADIUS=500;X-TITLE=443 West 3rd St:geo:-92.535013,44.564027
END:VEVENT
END:VCALENDAR