BEGIN:VCALENDAR
VERSION:2.0
PRODID:-//Sheldon Theatre - ECPv6.15.17.1//NONSGML v1.0//EN
CALSCALE:GREGORIAN
METHOD:PUBLISH
X-ORIGINAL-URL:https://www.sheldontheatre.org
X-WR-CALDESC:Events for Sheldon Theatre
REFRESH-INTERVAL;VALUE=DURATION:PT1H
X-Robots-Tag:noindex
X-PUBLISHED-TTL:PT1H
BEGIN:VTIMEZONE
TZID:America/Chicago
BEGIN:DAYLIGHT
TZOFFSETFROM:-0600
TZOFFSETTO:-0500
TZNAME:CDT
DTSTART:20250309T080000
END:DAYLIGHT
BEGIN:STANDARD
TZOFFSETFROM:-0500
TZOFFSETTO:-0600
TZNAME:CST
DTSTART:20251102T070000
END:STANDARD
BEGIN:DAYLIGHT
TZOFFSETFROM:-0600
TZOFFSETTO:-0500
TZNAME:CDT
DTSTART:20260308T080000
END:DAYLIGHT
BEGIN:STANDARD
TZOFFSETFROM:-0500
TZOFFSETTO:-0600
TZNAME:CST
DTSTART:20261101T070000
END:STANDARD
BEGIN:DAYLIGHT
TZOFFSETFROM:-0600
TZOFFSETTO:-0500
TZNAME:CDT
DTSTART:20270314T080000
END:DAYLIGHT
BEGIN:STANDARD
TZOFFSETFROM:-0500
TZOFFSETTO:-0600
TZNAME:CST
DTSTART:20271107T070000
END:STANDARD
END:VTIMEZONE
BEGIN:VEVENT
DTSTART;TZID=America/Chicago:20260502T193000
DTEND;TZID=America/Chicago:20260502T193000
DTSTAMP:20260423T070848
CREATED:20251015T213458Z
LAST-MODIFIED:20251118T162219Z
UID:16394-1777750200-1777750200@www.sheldontheatre.org
SUMMARY:The Cleverlys Live!
DESCRIPTION:Get ready for a lively mix of country\, bluegrass\, and humor! This dynamic group delivers unforgettable music and plenty of laughs\, creating a show that’s sure to entertain.
URL:https://www.sheldontheatre.org/event/the-cleverlys-live/
LOCATION:Sheldon Theatre\, 443 West 3rd St\, Red Wing\, 55066\, United States
CATEGORIES:Comedy,Music,Upcoming Shows
ATTACH;FMTTYPE=image/png:https://www.sheldontheatre.org/wp-content/uploads/2025/10/The-Cleverlys-Live-1.png
GEO:44.564027;-92.535013
X-APPLE-STRUCTURED-LOCATION;VALUE=URI;X-ADDRESS=Sheldon Theatre 443 West 3rd St Red Wing 55066 United States;X-APPLE-RADIUS=500;X-TITLE=443 West 3rd St:geo:-92.535013,44.564027
END:VEVENT
BEGIN:VEVENT
DTSTART;TZID=America/Chicago:20260508T133000
DTEND;TZID=America/Chicago:20260508T133000
DTSTAMP:20260423T070848
CREATED:20251015T213702Z
LAST-MODIFIED:20251015T214232Z
UID:16397-1778247000-1778247000@www.sheldontheatre.org
SUMMARY:Elvis My Way
DESCRIPTION:Presented by Artists Lounge Live \nCelebrate the King of Rock ‘n Roll in an electrifying retrospective from internationally acclaimed touring star Brandon Bennett (winner of Graceland’s “Ultimate Elvis” contest). 
URL:https://www.sheldontheatre.org/event/elvis-my-way/2026-05-08/
LOCATION:Sheldon Theatre\, 443 West 3rd St\, Red Wing\, 55066\, United States
CATEGORIES:Matinee,Music,Upcoming Shows
ATTACH;FMTTYPE=image/png:https://www.sheldontheatre.org/wp-content/uploads/2025/10/Elvis-My-Way.png
GEO:44.564027;-92.535013
X-APPLE-STRUCTURED-LOCATION;VALUE=URI;X-ADDRESS=Sheldon Theatre 443 West 3rd St Red Wing 55066 United States;X-APPLE-RADIUS=500;X-TITLE=443 West 3rd St:geo:-92.535013,44.564027
END:VEVENT
BEGIN:VEVENT
DTSTART;TZID=America/Chicago:20260510T150000
DTEND;TZID=America/Chicago:20260510T150000
DTSTAMP:20260423T070848
CREATED:20251015T213835Z
LAST-MODIFIED:20251015T213835Z
UID:16400-1778425200-1778425200@www.sheldontheatre.org
SUMMARY:Cantus
DESCRIPTION:Celebrate Mother’s Day with “Wanting Memories\,” a heartfelt performance that connects music and memory. Featuring timeless classics like “What a Wonderful World” and “Bridge Over Troubled Water\,” this moving show explores nostalgia\, love\, loss\, and hope. A perfect way to honor the special bonds we share.
URL:https://www.sheldontheatre.org/event/cantus/
LOCATION:Sheldon Theatre\, 443 West 3rd St\, Red Wing\, 55066\, United States
CATEGORIES:Family,Matinee,Music,Upcoming Shows
ATTACH;FMTTYPE=image/png:https://www.sheldontheatre.org/wp-content/uploads/2025/10/Cantus.png
GEO:44.564027;-92.535013
X-APPLE-STRUCTURED-LOCATION;VALUE=URI;X-ADDRESS=Sheldon Theatre 443 West 3rd St Red Wing 55066 United States;X-APPLE-RADIUS=500;X-TITLE=443 West 3rd St:geo:-92.535013,44.564027
END:VEVENT
BEGIN:VEVENT
DTSTART;TZID=America/Chicago:20260515T193000
DTEND;TZID=America/Chicago:20260515T193000
DTSTAMP:20260423T070848
CREATED:20251015T214100Z
LAST-MODIFIED:20251015T214100Z
UID:16403-1778873400-1778873400@www.sheldontheatre.org
SUMMARY:Caitlyn Smith
DESCRIPTION:This singer-songwriter from Cannon Falls\, Minnesota\, has made her mark with unforgettable melodies and heartfelt lyrics. With three studio albums under her belt\, including Starfire\, Supernova\, and High & Low\, her unique sound blends pop-country with soulful vocals. Having penned hits for stars like Dolly Parton\, Meghan Trainor\, and Garth Brooks\, she brings her personal stories to life with every performance. Known for her engaging stage presence\, she opened for artists like Sheryl Crow and George Strait. Don’t miss the chance to see this rising star in action.
URL:https://www.sheldontheatre.org/event/caitlyn-smith/
LOCATION:Sheldon Theatre\, 443 West 3rd St\, Red Wing\, 55066\, United States
CATEGORIES:Music,Upcoming Shows
ATTACH;FMTTYPE=image/png:https://www.sheldontheatre.org/wp-content/uploads/2025/09/Caitlyn-Smith.png
GEO:44.564027;-92.535013
X-APPLE-STRUCTURED-LOCATION;VALUE=URI;X-ADDRESS=Sheldon Theatre 443 West 3rd St Red Wing 55066 United States;X-APPLE-RADIUS=500;X-TITLE=443 West 3rd St:geo:-92.535013,44.564027
END:VEVENT
END:VCALENDAR