BEGIN:VCALENDAR
VERSION:2.0
PRODID:-//Sheldon Theatre - ECPv6.15.17.1//NONSGML v1.0//EN
CALSCALE:GREGORIAN
METHOD:PUBLISH
X-ORIGINAL-URL:https://www.sheldontheatre.org
X-WR-CALDESC:Events for Sheldon Theatre
REFRESH-INTERVAL;VALUE=DURATION:PT1H
X-Robots-Tag:noindex
X-PUBLISHED-TTL:PT1H
BEGIN:VTIMEZONE
TZID:America/Chicago
BEGIN:DAYLIGHT
TZOFFSETFROM:-0600
TZOFFSETTO:-0500
TZNAME:CDT
DTSTART:20240310T080000
END:DAYLIGHT
BEGIN:STANDARD
TZOFFSETFROM:-0500
TZOFFSETTO:-0600
TZNAME:CST
DTSTART:20241103T070000
END:STANDARD
BEGIN:DAYLIGHT
TZOFFSETFROM:-0600
TZOFFSETTO:-0500
TZNAME:CDT
DTSTART:20250309T080000
END:DAYLIGHT
BEGIN:STANDARD
TZOFFSETFROM:-0500
TZOFFSETTO:-0600
TZNAME:CST
DTSTART:20251102T070000
END:STANDARD
BEGIN:DAYLIGHT
TZOFFSETFROM:-0600
TZOFFSETTO:-0500
TZNAME:CDT
DTSTART:20260308T080000
END:DAYLIGHT
BEGIN:STANDARD
TZOFFSETFROM:-0500
TZOFFSETTO:-0600
TZNAME:CST
DTSTART:20261101T070000
END:STANDARD
END:VTIMEZONE
BEGIN:VEVENT
DTSTART;TZID=America/Chicago:20251031T091500
DTEND;TZID=America/Chicago:20251031T091500
DTSTAMP:20260424T184421
CREATED:20251029T152405Z
LAST-MODIFIED:20251029T152405Z
UID:16413-1761902100-1761902100@www.sheldontheatre.org
SUMMARY:Twelfth Night by William Shakespeare 10/31 at 9:15 am
DESCRIPTION:Doors 8:55pm / Show 9:15 pm \nFor centuries audiences have delighted in the twists and turns of Twelfth Night. It is packed full of wonderful and passionately love-obsessed characters. \nWhether it is Duke Orsino\, consumed by love; the Countess Olivia\, who has sworn off men\, but as soon as one comes along that she likes\, suddenly she becomes very interested\, or Viola who gets desperately tangled up in a love triangle and tries her best to get untangled. And that’s before we even talk about any of the comic subplots that involve yellow stockings\, a fake exorcism and a comic duel between two deeply unsuitable fighters. Twelfth Night is absolutely bursting with life\, life lessons and huge swathes of it feel like it could have been written yesterday. \nThe Lord Chamberlain’s Men is the UK’s premier all male theatre company – with direct links to the history of William Shakespeare – presenting Shakespeare’s work as he first saw it; all male\, with Elizabethan costume\, music and dance. Their productions champion authenticity while breathing fresh\, new life into this extraordinary play. It will ignite or rekindle a burning passion in the greatest playwright the world has ever seen.
URL:https://www.sheldontheatre.org/event/twelfth-night-by-william-shakespeare-10-31-at-915-am/
LOCATION:Sheldon Theatre\, 443 West 3rd St\, Red Wing\, 55066\, United States
CATEGORIES:Theatre,Upcoming Shows
ATTACH;FMTTYPE=image/png:https://www.sheldontheatre.org/wp-content/uploads/2025/09/The-Twelfth-Night.png
GEO:44.564027;-92.535013
X-APPLE-STRUCTURED-LOCATION;VALUE=URI;X-ADDRESS=Sheldon Theatre 443 West 3rd St Red Wing 55066 United States;X-APPLE-RADIUS=500;X-TITLE=443 West 3rd St:geo:-92.535013,44.564027
END:VEVENT
END:VCALENDAR