BEGIN:VCALENDAR
VERSION:2.0
PRODID:-//Sheldon Theatre - ECPv6.15.17.1//NONSGML v1.0//EN
CALSCALE:GREGORIAN
METHOD:PUBLISH
X-WR-CALNAME:Sheldon Theatre
X-ORIGINAL-URL:https://www.sheldontheatre.org
X-WR-CALDESC:Events for Sheldon Theatre
REFRESH-INTERVAL;VALUE=DURATION:PT1H
X-Robots-Tag:noindex
X-PUBLISHED-TTL:PT1H
BEGIN:VTIMEZONE
TZID:America/Chicago
BEGIN:DAYLIGHT
TZOFFSETFROM:-0600
TZOFFSETTO:-0500
TZNAME:CDT
DTSTART:20240310T080000
END:DAYLIGHT
BEGIN:STANDARD
TZOFFSETFROM:-0500
TZOFFSETTO:-0600
TZNAME:CST
DTSTART:20241103T070000
END:STANDARD
BEGIN:DAYLIGHT
TZOFFSETFROM:-0600
TZOFFSETTO:-0500
TZNAME:CDT
DTSTART:20250309T080000
END:DAYLIGHT
BEGIN:STANDARD
TZOFFSETFROM:-0500
TZOFFSETTO:-0600
TZNAME:CST
DTSTART:20251102T070000
END:STANDARD
BEGIN:DAYLIGHT
TZOFFSETFROM:-0600
TZOFFSETTO:-0500
TZNAME:CDT
DTSTART:20260308T080000
END:DAYLIGHT
BEGIN:STANDARD
TZOFFSETFROM:-0500
TZOFFSETTO:-0600
TZNAME:CST
DTSTART:20261101T070000
END:STANDARD
BEGIN:DAYLIGHT
TZOFFSETFROM:-0600
TZOFFSETTO:-0500
TZNAME:CDT
DTSTART:20270314T080000
END:DAYLIGHT
BEGIN:STANDARD
TZOFFSETFROM:-0500
TZOFFSETTO:-0600
TZNAME:CST
DTSTART:20271107T070000
END:STANDARD
END:VTIMEZONE
BEGIN:VEVENT
DTSTART;VALUE=DATE:20250920
DTEND;VALUE=DATE:20260516
DTSTAMP:20260424T134517
CREATED:20250908T155022Z
LAST-MODIFIED:20250908T155239Z
UID:16120-1758326400-1778889599@www.sheldontheatre.org
SUMMARY:Click Here To See All The Events
DESCRIPTION:Click Get Tickets
URL:https://www.sheldontheatre.org/event/click-here-to-see-all-the-events/
LOCATION:Sheldon Theatre\, 443 West 3rd St\, Red Wing\, 55066\, United States
CATEGORIES:Upcoming Shows
ATTACH;FMTTYPE=image/png:https://www.sheldontheatre.org/wp-content/uploads/2025/09/15-1.png
GEO:44.564027;-92.535013
X-APPLE-STRUCTURED-LOCATION;VALUE=URI;X-ADDRESS=Sheldon Theatre 443 West 3rd St Red Wing 55066 United States;X-APPLE-RADIUS=500;X-TITLE=443 West 3rd St:geo:-92.535013,44.564027
END:VEVENT
BEGIN:VEVENT
DTSTART;TZID=America/Chicago:20251204T190000
DTEND;TZID=America/Chicago:20251204T190000
DTSTAMP:20260424T134517
CREATED:20251009T132810Z
LAST-MODIFIED:20251118T161659Z
UID:16272-1764874800-1764874800@www.sheldontheatre.org
SUMMARY:A Minnesota Mini-Nutcracker -Twin Cities Ballet
DESCRIPTION:Doors 6:30pm / Show 7:00pm \nThe Minnesota Mini-Nutcracker is a delightful\, abridged version of Twin Cities Ballet’s beloved holiday classic\, A Minnesota Nutcracker. This enchanting performance maintains the timeless story\, soaring Tchaikovsky score\, uniquely Minnesota twist\, and festive magic of the full-length production\, but is designed especially for young audiences and families. \nA South Metro tradition since 2003 and named one of MPR’s “Twelve Essential Holiday Events.” \nJoin Clara on her magical journey through iconic Minnesota landmarks and whimsical characters—from the Golden Horses of the State Capitol\, to Minnesota’s Cascading Waters\, Vikings\, Loons\, and the state flower\, the Ladyslipper. \nThe Mini-Nutcracker runs just over an hour and is performed by talented cast members from the full-length production. It’s the perfect holiday mini-treat—accessible\, joyful\, and sure to delight theatregoers of all ages!
URL:https://www.sheldontheatre.org/event/a-minnesota-mini-nutcracker-twin-cities-ballet/
LOCATION:Sheldon Theatre\, 443 West 3rd St\, Red Wing\, 55066\, United States
CATEGORIES:Dance,Theatre,Upcoming Shows
ATTACH;FMTTYPE=image/png:https://www.sheldontheatre.org/wp-content/uploads/2025/10/MN-Nutcracker-1.png
GEO:44.564027;-92.535013
X-APPLE-STRUCTURED-LOCATION;VALUE=URI;X-ADDRESS=Sheldon Theatre 443 West 3rd St Red Wing 55066 United States;X-APPLE-RADIUS=500;X-TITLE=443 West 3rd St:geo:-92.535013,44.564027
END:VEVENT
BEGIN:VEVENT
DTSTART;TZID=America/Chicago:20251206T140000
DTEND;TZID=America/Chicago:20251206T140000
DTSTAMP:20260424T134517
CREATED:20251009T133103Z
LAST-MODIFIED:20251119T174910Z
UID:16277-1765029600-1765029600@www.sheldontheatre.org
SUMMARY:Rocky Mountain High Experience: A John Denver Christmas Starring Rick Schuler
DESCRIPTION:Doors 1:30pm / Show 2:00pm \nDoors 7:00pm / Show 7:30pm \nAn intimate experience that will take you back to the ’70s when John Denver’s music permeated the radio airways. Schuler weaves in John’s heartwarming inspirational carols and holiday classics from his memorable TV specials and Christmas albums including “Aspenglow”\, “Silent Night”\, “Joy to the World”\, “Chestnuts Roasting on an Open Fire”\, and many more festive standards. 
URL:https://www.sheldontheatre.org/event/rocky-mountain-high-experience-a-john-denver-christmas-starring-rick-schuler/2025-12-06/
LOCATION:Sheldon Theatre\, 443 West 3rd St\, Red Wing\, 55066\, United States
CATEGORIES:Family,Music,Upcoming Shows
ATTACH;FMTTYPE=image/png:https://www.sheldontheatre.org/wp-content/uploads/2025/10/John-Denver.png
GEO:44.564027;-92.535013
X-APPLE-STRUCTURED-LOCATION;VALUE=URI;X-ADDRESS=Sheldon Theatre 443 West 3rd St Red Wing 55066 United States;X-APPLE-RADIUS=500;X-TITLE=443 West 3rd St:geo:-92.535013,44.564027
END:VEVENT
BEGIN:VEVENT
DTSTART;TZID=America/Chicago:20251210T140000
DTEND;TZID=America/Chicago:20251210T140000
DTSTAMP:20260424T134517
CREATED:20251009T133323Z
LAST-MODIFIED:20251119T170420Z
UID:16281-1765375200-1765375200@www.sheldontheatre.org
SUMMARY:Put a Little Holiday In Your Heart - Colleen Raye & St. Croix Sounds Symphony Orchestra
DESCRIPTION:Doors 1:30pm / Show 2:00pm \nKristin Tjornehoj Conductor \nColleen Raye brings her effervescent\, warm\, lush voice\, The St. Croix Sounds Symphony Orchestra & Chorus to Sheldon Theatre with this new Christmas show! Colleen’s own Christmas version of Leonard Cohen’s Hallelujah will make your hair stand on end. Get in the spirit with classic\, traditional and new pop Christmas songs and dazzling orchestral arrangements. 
URL:https://www.sheldontheatre.org/event/put-a-little-holiday-in-your-heart-colleen-raye-st-croix-sound-symphony-orchestra/
LOCATION:Sheldon Theatre\, 443 West 3rd St\, Red Wing\, 55066\, United States
CATEGORIES:Family,Music,Upcoming Shows
ATTACH;FMTTYPE=image/png:https://www.sheldontheatre.org/wp-content/uploads/2025/10/Colleen-Raye-1-1.png
GEO:44.564027;-92.535013
X-APPLE-STRUCTURED-LOCATION;VALUE=URI;X-ADDRESS=Sheldon Theatre 443 West 3rd St Red Wing 55066 United States;X-APPLE-RADIUS=500;X-TITLE=443 West 3rd St:geo:-92.535013,44.564027
END:VEVENT
BEGIN:VEVENT
DTSTART;TZID=America/Chicago:20251212T193000
DTEND;TZID=America/Chicago:20251212T193000
DTSTAMP:20260424T134517
CREATED:20251009T133556Z
LAST-MODIFIED:20251201T155900Z
UID:16285-1765567800-1765567800@www.sheldontheatre.org
SUMMARY:Lit! A Festive Holiday Mix Starring Broadway Star Mandy Gonzalez
DESCRIPTION:Doors 7:00pm / Show 7:30pm \nHear one of the most powerful and versatile voices of our time! Mandy is an accomplished film\, TV\, stage actor and author. You may have seen her as Elphaba in Wicked or Angelica Schuyler in Hamilton. She’ll be singing a festive mix of holiday songs just for you. Join us for this incredible event. \nJUST ANNOUNCED: Red Wing Holiday Chorus will be be joining Mandy on stage!  \nJoin us for this incredible event. \n*premium show
URL:https://www.sheldontheatre.org/event/mandy-gonzalez/
LOCATION:Sheldon Theatre\, 443 West 3rd St\, Red Wing\, 55066\, United States
CATEGORIES:Family,Music,Upcoming Shows
ATTACH;FMTTYPE=image/png:https://www.sheldontheatre.org/wp-content/uploads/2025/10/Mandy-Gonzalez.png
GEO:44.564027;-92.535013
X-APPLE-STRUCTURED-LOCATION;VALUE=URI;X-ADDRESS=Sheldon Theatre 443 West 3rd St Red Wing 55066 United States;X-APPLE-RADIUS=500;X-TITLE=443 West 3rd St:geo:-92.535013,44.564027
END:VEVENT
BEGIN:VEVENT
DTSTART;TZID=America/Chicago:20251213T150000
DTEND;TZID=America/Chicago:20251213T150000
DTSTAMP:20260424T134517
CREATED:20251009T133826Z
LAST-MODIFIED:20251009T133826Z
UID:16289-1765638000-1765638000@www.sheldontheatre.org
SUMMARY:Christmas with Lorie Line
DESCRIPTION:The tradition continues! Lorie Line returns to the stage as a solo pianist and celebrates the Christmas season with faith-filled stories and the best-of-the-best holiday music. This year’s tour marks her 36th year of touring. As always\, expect beautiful costumes\, elegant piano arrangements\, funny stories\, and personal tender words that reflect the true meaning of Christmas as she brings her concert grand piano to the center stage.
URL:https://www.sheldontheatre.org/event/christmas-with-lorie-line-2/
LOCATION:Sheldon Theatre\, 443 West 3rd St\, Red Wing\, 55066\, United States
CATEGORIES:Family,Music,Upcoming Shows
ATTACH;FMTTYPE=image/png:https://www.sheldontheatre.org/wp-content/uploads/2025/10/Lorie-Line-25.png
GEO:44.564027;-92.535013
X-APPLE-STRUCTURED-LOCATION;VALUE=URI;X-ADDRESS=Sheldon Theatre 443 West 3rd St Red Wing 55066 United States;X-APPLE-RADIUS=500;X-TITLE=443 West 3rd St:geo:-92.535013,44.564027
END:VEVENT
BEGIN:VEVENT
DTSTART;TZID=America/Chicago:20251218T193000
DTEND;TZID=America/Chicago:20251218T193000
DTSTAMP:20260424T134517
CREATED:20251009T134241Z
LAST-MODIFIED:20251016T173855Z
UID:16295-1766086200-1766086200@www.sheldontheatre.org
SUMMARY:Who Brought the Humbug?
DESCRIPTION:Doors 7:00pm / Show 7:30pm \nStep into the wildest ugly sweater party ever—packed with joyful singers\, tap dancers\, and high-energy musicians. Santa raps\, Frosty tap dances\, and the reindeer break into hip-hop in this hilarious holiday mash-up. 
URL:https://www.sheldontheatre.org/event/who-brought-the-humbug/
LOCATION:Sheldon Theatre\, 443 West 3rd St\, Red Wing\, 55066\, United States
CATEGORIES:Dance,Theatre,Upcoming Shows
ATTACH;FMTTYPE=image/png:https://www.sheldontheatre.org/wp-content/uploads/2025/10/Who-brought-the-humbug.png
GEO:44.564027;-92.535013
X-APPLE-STRUCTURED-LOCATION;VALUE=URI;X-ADDRESS=Sheldon Theatre 443 West 3rd St Red Wing 55066 United States;X-APPLE-RADIUS=500;X-TITLE=443 West 3rd St:geo:-92.535013,44.564027
END:VEVENT
BEGIN:VEVENT
DTSTART;TZID=America/Chicago:20251220T193000
DTEND;TZID=America/Chicago:20251220T193000
DTSTAMP:20260424T134517
CREATED:20251009T134503Z
LAST-MODIFIED:20251009T134503Z
UID:16299-1766259000-1766259000@www.sheldontheatre.org
SUMMARY:The New Standards Holiday Show 2025
DESCRIPTION:Doors 7:00pm / Show 7:30pm \nA show that tops itself year after year and keeps you guessing\, you just never know what you’re going to get! \nSOLD OUT IN 2021/2022/2023/2024 GET YOUR TICKETS EARLY \n**premium show
URL:https://www.sheldontheatre.org/event/the-new-standards-holiday-show-2025/
LOCATION:Sheldon Theatre\, 443 West 3rd St\, Red Wing\, 55066\, United States
CATEGORIES:Holiday Series,Music,Upcoming Shows
ATTACH;FMTTYPE=image/png:https://www.sheldontheatre.org/wp-content/uploads/2025/10/TNS-Holiday-25.png
GEO:44.564027;-92.535013
X-APPLE-STRUCTURED-LOCATION;VALUE=URI;X-ADDRESS=Sheldon Theatre 443 West 3rd St Red Wing 55066 United States;X-APPLE-RADIUS=500;X-TITLE=443 West 3rd St:geo:-92.535013,44.564027
END:VEVENT
BEGIN:VEVENT
DTSTART;TZID=America/Chicago:20251231T193000
DTEND;TZID=America/Chicago:20251231T193000
DTSTAMP:20260424T134517
CREATED:20251009T134743Z
LAST-MODIFIED:20251009T135420Z
UID:16303-1767209400-1767209400@www.sheldontheatre.org
SUMMARY:Rockin' Down the Clock: 100 Years of America's Greatest Hits
DESCRIPTION:Doors 7:00pm / Show 7:30pm \nDance through the decades and sing along as a dynamite quartet of Broadway and PBS stars\, backed by an electrifying band\, wows with hits from Louis Armstrong to Taylor Swift! Starring Broadway actress Cherise Coaches (Waitress)\, Emmy-nominated PBS star Angela Ingersoll (Get Happy)\, Broadway Touring PBS star Michael Ingersoll (Jersey Boys\, Under the Streetlamp)\, and acclaimed headliner John-Mark McGaha (Signed\, Sealed\, Delivered). \nSing and dance through the decades with a powerhouse quartet of Broadway and PBS stars\, backed by a high-energy band. From Louis Armstrong to Taylor Swift\, this show delivers nonstop hits and unforgettable talent. Starring Cherise Coaches\, Angela Ingersoll\, Michael Ingersoll\, and John-Mark McGaha.
URL:https://www.sheldontheatre.org/event/rockin-down-the-clock-100-years-of-americas-greatest-hits/
LOCATION:Sheldon Theatre\, 443 West 3rd St\, Red Wing\, 55066\, United States
CATEGORIES:Family,Holiday Series,Music,Upcoming Shows
ATTACH;FMTTYPE=image/png:https://www.sheldontheatre.org/wp-content/uploads/2025/10/Rockin-Down-the-Clock.png
GEO:44.564027;-92.535013
X-APPLE-STRUCTURED-LOCATION;VALUE=URI;X-ADDRESS=Sheldon Theatre 443 West 3rd St Red Wing 55066 United States;X-APPLE-RADIUS=500;X-TITLE=443 West 3rd St:geo:-92.535013,44.564027
END:VEVENT
END:VCALENDAR