BEGIN:VCALENDAR
VERSION:2.0
PRODID:-//Sheldon Theatre - ECPv6.15.17.1//NONSGML v1.0//EN
CALSCALE:GREGORIAN
METHOD:PUBLISH
X-WR-CALNAME:Sheldon Theatre
X-ORIGINAL-URL:https://www.sheldontheatre.org
X-WR-CALDESC:Events for Sheldon Theatre
REFRESH-INTERVAL;VALUE=DURATION:PT1H
X-Robots-Tag:noindex
X-PUBLISHED-TTL:PT1H
BEGIN:VTIMEZONE
TZID:America/Chicago
BEGIN:DAYLIGHT
TZOFFSETFROM:-0600
TZOFFSETTO:-0500
TZNAME:CDT
DTSTART:20240310T080000
END:DAYLIGHT
BEGIN:STANDARD
TZOFFSETFROM:-0500
TZOFFSETTO:-0600
TZNAME:CST
DTSTART:20241103T070000
END:STANDARD
BEGIN:DAYLIGHT
TZOFFSETFROM:-0600
TZOFFSETTO:-0500
TZNAME:CDT
DTSTART:20250309T080000
END:DAYLIGHT
BEGIN:STANDARD
TZOFFSETFROM:-0500
TZOFFSETTO:-0600
TZNAME:CST
DTSTART:20251102T070000
END:STANDARD
BEGIN:DAYLIGHT
TZOFFSETFROM:-0600
TZOFFSETTO:-0500
TZNAME:CDT
DTSTART:20260308T080000
END:DAYLIGHT
BEGIN:STANDARD
TZOFFSETFROM:-0500
TZOFFSETTO:-0600
TZNAME:CST
DTSTART:20261101T070000
END:STANDARD
BEGIN:DAYLIGHT
TZOFFSETFROM:-0600
TZOFFSETTO:-0500
TZNAME:CDT
DTSTART:20270314T080000
END:DAYLIGHT
BEGIN:STANDARD
TZOFFSETFROM:-0500
TZOFFSETTO:-0600
TZNAME:CST
DTSTART:20271107T070000
END:STANDARD
END:VTIMEZONE
BEGIN:VEVENT
DTSTART;VALUE=DATE:20250920
DTEND;VALUE=DATE:20260516
DTSTAMP:20260424T083624
CREATED:20250908T155022Z
LAST-MODIFIED:20250908T155239Z
UID:16120-1758326400-1778889599@www.sheldontheatre.org
SUMMARY:Click Here To See All The Events
DESCRIPTION:Click Get Tickets
URL:https://www.sheldontheatre.org/event/click-here-to-see-all-the-events/
LOCATION:Sheldon Theatre\, 443 West 3rd St\, Red Wing\, 55066\, United States
CATEGORIES:Upcoming Shows
ATTACH;FMTTYPE=image/png:https://www.sheldontheatre.org/wp-content/uploads/2025/09/15-1.png
GEO:44.564027;-92.535013
X-APPLE-STRUCTURED-LOCATION;VALUE=URI;X-ADDRESS=Sheldon Theatre 443 West 3rd St Red Wing 55066 United States;X-APPLE-RADIUS=500;X-TITLE=443 West 3rd St:geo:-92.535013,44.564027
END:VEVENT
BEGIN:VEVENT
DTSTART;TZID=America/Chicago:20260301T130000
DTEND;TZID=America/Chicago:20260301T130000
DTSTAMP:20260424T083624
CREATED:20260121T223155Z
LAST-MODIFIED:20260205T172736Z
UID:16506-1772370000-1772370000@www.sheldontheatre.org
SUMMARY:The Magic of Kevin Spencer: Magic for Everyone!
DESCRIPTION:A Sensory Inclusive Performance\nGet ready for an unforgettable experience with The Magic of Kevin Spencer—a performance designed for people of all ages and abilities! Award-winning magician Kevin Spencer brings the stage to life with captivating storytelling\, mind-blowing magic\, and plenty of audience participation. \nThis sensory-inclusive show is thoughtfully crafted to welcome everyone\, including families with children who have autism or other developmental or intellectual disabilities that create sensory sensitivities. It’s pure magic that the whole family will love—don’t miss it! \nNo tickets needed to attend this event. Simply show up and we’ll seat you.
URL:https://www.sheldontheatre.org/event/the-magic-of-kevin-spencer-magic-for-everyone/
LOCATION:Sheldon Theatre\, 443 West 3rd St\, Red Wing\, 55066\, United States
CATEGORIES:Family,Upcoming Shows
ATTACH;FMTTYPE=image/png:https://www.sheldontheatre.org/wp-content/uploads/2026/01/Thundertix-event-image-316-x-210-2.png
GEO:44.564027;-92.535013
X-APPLE-STRUCTURED-LOCATION;VALUE=URI;X-ADDRESS=Sheldon Theatre 443 West 3rd St Red Wing 55066 United States;X-APPLE-RADIUS=500;X-TITLE=443 West 3rd St:geo:-92.535013,44.564027
END:VEVENT
BEGIN:VEVENT
DTSTART;TZID=America/Chicago:20260305T190000
DTEND;TZID=America/Chicago:20260305T190000
DTSTAMP:20260424T083624
CREATED:20251015T211005Z
LAST-MODIFIED:20260227T173759Z
UID:16346-1772737200-1772737200@www.sheldontheatre.org
SUMMARY:Water Street Dance Milwaukee
DESCRIPTION:This captivating performance was so well received\, we’ve brought them back! Their high-caliber artistry and diverse technical training will have you in awe.
URL:https://www.sheldontheatre.org/event/water-street-dance-milwaukee/
LOCATION:Sheldon Theatre\, 443 West 3rd St\, Red Wing\, 55066\, United States
CATEGORIES:Dance,Upcoming Shows
ATTACH;FMTTYPE=image/png:https://www.sheldontheatre.org/wp-content/uploads/2025/10/Water-Street-Dance-26-1.png
GEO:44.564027;-92.535013
X-APPLE-STRUCTURED-LOCATION;VALUE=URI;X-ADDRESS=Sheldon Theatre 443 West 3rd St Red Wing 55066 United States;X-APPLE-RADIUS=500;X-TITLE=443 West 3rd St:geo:-92.535013,44.564027
END:VEVENT
BEGIN:VEVENT
DTSTART;TZID=America/Chicago:20260307T193000
DTEND;TZID=America/Chicago:20260307T193000
DTSTAMP:20260424T083624
CREATED:20251015T211005Z
LAST-MODIFIED:20251015T211005Z
UID:16349-1772911800-1772911800@www.sheldontheatre.org
SUMMARY:The Kings of Queen
DESCRIPTION:Lead vocalist Emo Alaeddin brings Queen to life with his unmatched voice\, dynamic stage presence\, and striking resemblance to Freddie Mercury. Known for changing costumes up to four times a show\, he fully captures the spirit of a live Queen performance. Emo and his band are among the few elite Queen tribute acts.
URL:https://www.sheldontheatre.org/event/the-kings-of-queen/
LOCATION:Sheldon Theatre\, 443 West 3rd St\, Red Wing\, 55066\, United States
CATEGORIES:Music,Upcoming Shows
ATTACH;FMTTYPE=image/png:https://www.sheldontheatre.org/wp-content/uploads/2025/10/Kings-of-Queen-2.png
GEO:44.564027;-92.535013
X-APPLE-STRUCTURED-LOCATION;VALUE=URI;X-ADDRESS=Sheldon Theatre 443 West 3rd St Red Wing 55066 United States;X-APPLE-RADIUS=500;X-TITLE=443 West 3rd St:geo:-92.535013,44.564027
END:VEVENT
BEGIN:VEVENT
DTSTART;TZID=America/Chicago:20260312T093000
DTEND;TZID=America/Chicago:20260312T093000
DTSTAMP:20260424T083624
CREATED:20260203T173839Z
LAST-MODIFIED:20260203T173839Z
UID:16527-1773307800-1773307800@www.sheldontheatre.org
SUMMARY:Click Clack Moo - TheaterWorksUSA
DESCRIPTION:“Cows that type? Hens on strike! Whoever heard of such a thing!” Farmer Brown cries. \nWhen his granddaughter Jenny comes for a visit\, Farmer Brown declares the farm a tech-free zone. He takes her laptop in the cold barn with the shivering cows who use her computer to type messages requesting blankets. \n“No way\,” replies Farmer Brown. “No blankets!” \nSo the cows go on strike and the chickens join them in solidarity. No blankets? No milk! No eggs! \nWill Farmer Brown give in to the animals’ demands? Will Jenny get her computer back? Find out in a hilariously moving musical about negotiation and compromise\, based on the Caldecott Honor Book by Doreen Cronin and Betsy Lewin. \nApproximate Running Time: 60 Minutes \nRecommended Ages: Grades K through 4
URL:https://www.sheldontheatre.org/event/click-clack-moo-theaterworksusa/2026-03-12/
LOCATION:Sheldon Theatre\, 443 West 3rd St\, Red Wing\, 55066\, United States
CATEGORIES:Family,Upcoming Shows
ATTACH;FMTTYPE=image/png:https://www.sheldontheatre.org/wp-content/uploads/2025/09/Click-Clack-Moo.png
GEO:44.564027;-92.535013
X-APPLE-STRUCTURED-LOCATION;VALUE=URI;X-ADDRESS=Sheldon Theatre 443 West 3rd St Red Wing 55066 United States;X-APPLE-RADIUS=500;X-TITLE=443 West 3rd St:geo:-92.535013,44.564027
END:VEVENT
BEGIN:VEVENT
DTSTART;TZID=America/Chicago:20260320T193000
DTEND;TZID=America/Chicago:20260320T193000
DTSTAMP:20260424T083624
CREATED:20251015T211004Z
LAST-MODIFIED:20251015T211004Z
UID:16353-1774035000-1774035000@www.sheldontheatre.org
SUMMARY:The Music of Patsy Cline - Joyann Parker
DESCRIPTION:Step back in time with The Music of Patsy Cline\, as acclaimed vocalist Joyann Parker brings the country legend to life with heart\, style\, and unforgettable songs like “Crazy” and “Walking After Midnight.” Backed by a top-notch band and vintage flair\, it’s a must-see celebration of Patsy’s timeless music. 
URL:https://www.sheldontheatre.org/event/the-music-of-patsy-cline-joyann-parker/
LOCATION:Sheldon Theatre\, 443 West 3rd St\, Red Wing\, 55066\, United States
CATEGORIES:Music,Upcoming Shows
ATTACH;FMTTYPE=image/png:https://www.sheldontheatre.org/wp-content/uploads/2025/09/Patsy-Cline.png
GEO:44.564027;-92.535013
X-APPLE-STRUCTURED-LOCATION;VALUE=URI;X-ADDRESS=Sheldon Theatre 443 West 3rd St Red Wing 55066 United States;X-APPLE-RADIUS=500;X-TITLE=443 West 3rd St:geo:-92.535013,44.564027
END:VEVENT
BEGIN:VEVENT
DTSTART;TZID=America/Chicago:20260322T160000
DTEND;TZID=America/Chicago:20260322T160000
DTSTAMP:20260424T083624
CREATED:20260126T151031Z
LAST-MODIFIED:20260126T151031Z
UID:16514-1774195200-1774195200@www.sheldontheatre.org
SUMMARY:Strings\, Winds & Brass presented by Minnesota State College Southeast
DESCRIPTION:Every year\, students flock from across the country to study musical instrument repair at Minnesota State College Southeast in Red Wing. To share their talents with the community\, the college hosts an annual musical variety showcase called Strings\, Winds & Brass. From Celtic to classical\, bluegrass to blues\, big band to string quartet — you never know what to expect from the band instrument\, violin\, and guitar repair and building students of Southeast! \nAbout Minnesota State College Southeast \nLocated in the historic river towns of Red Wing and Winona\, Minnesota State College Southeast is a community and technical college that provides a flexible\, affordable\, inclusive\, and equitable college environment and offers a clear sense of direction to all students. The college’s signature musical instrument repair and building programs in Red Wing attract students from across the United States and around the world.
URL:https://www.sheldontheatre.org/event/swb-2026/
LOCATION:Sheldon Theatre\, 443 West 3rd St\, Red Wing\, 55066\, United States
CATEGORIES:Family,Matinee,Music,Upcoming Shows
ATTACH;FMTTYPE=image/png:https://www.sheldontheatre.org/wp-content/uploads/2026/01/Southeast_2026.png
GEO:44.564027;-92.535013
X-APPLE-STRUCTURED-LOCATION;VALUE=URI;X-ADDRESS=Sheldon Theatre 443 West 3rd St Red Wing 55066 United States;X-APPLE-RADIUS=500;X-TITLE=443 West 3rd St:geo:-92.535013,44.564027
END:VEVENT
BEGIN:VEVENT
DTSTART;TZID=America/Chicago:20260327T140000
DTEND;TZID=America/Chicago:20260327T140000
DTSTAMP:20260424T083624
CREATED:20251015T211004Z
LAST-MODIFIED:20251015T211004Z
UID:16355-1774620000-1774620000@www.sheldontheatre.org
SUMMARY:Church of Cash
DESCRIPTION:Experience high-energy\, authentic performances of Johnny Cash’s greatest hits. Led by Minnesota’s Jay Ernest\, this unforgettable tribute is a must-see for fans of the Man in Black!
URL:https://www.sheldontheatre.org/event/church-of-cash/2026-03-27/
LOCATION:Sheldon Theatre\, 443 West 3rd St\, Red Wing\, 55066\, United States
CATEGORIES:Matinee,Music,Upcoming Shows
ATTACH;FMTTYPE=image/png:https://www.sheldontheatre.org/wp-content/uploads/2025/10/Church-of-Cash.png
GEO:44.564027;-92.535013
X-APPLE-STRUCTURED-LOCATION;VALUE=URI;X-ADDRESS=Sheldon Theatre 443 West 3rd St Red Wing 55066 United States;X-APPLE-RADIUS=500;X-TITLE=443 West 3rd St:geo:-92.535013,44.564027
END:VEVENT
END:VCALENDAR